{
 "currentVersion": 12.0,
 "cimVersion": "3.6.0",
 "serviceDescription": "",
 "mapName": "Map",
 "description": "",
 "copyrightText": "",
 "supportsDynamicLayers": false,
 "layers": [
  {
   "id": 0,
   "name": "Imagery2015.tif",
   "parentLayerId": -1,
   "defaultVisibility": true,
   "subLayerIds": null,
   "minScale": 0,
   "maxScale": 0,
   "type": "Raster Layer",
   "supportsDynamicLegends": true
  }
 ],
 "tables": [],
 "spatialReference": {
  "wkid": 2926,
  "latestWkid": 2926,
  "xyTolerance": 0.003280833333333333,
  "zTolerance": 0.001,
  "mTolerance": 0.001,
  "falseX": -117104300,
  "falseY": -99539600,
  "xyUnits": 3048.0060960121928,
  "falseZ": -100000,
  "zUnits": 10000,
  "falseM": -100000,
  "mUnits": 10000
 },
 "singleFusedMapCache": true,
 "tileInfo": {
  "rows": 256,
  "cols": 256,
  "dpi": 96,
  "format": "Mixed",
  "compressionQuality": 75,
  "origin": {
   "x": -1.1710392661120817E8,
   "y": 1.1983097835022256E8
  },
  "spatialReference": {
   "wkid": 2926,
   "latestWkid": 2926,
   "xyTolerance": 0.003280833333333333,
   "zTolerance": 0.001,
   "mTolerance": 0.001,
   "falseX": -117104300,
   "falseY": -99539600,
   "xyUnits": 3048.0060960121928,
   "falseZ": -100000,
   "zUnits": 10000,
   "falseM": -100000,
   "mUnits": 10000
  },
  "lods": [
   {
    "level": 0,
    "resolution": 927690.1818583971,
    "scale": 1.0687012269033273E9
   },
   {
    "level": 1,
    "resolution": 463845.09092919854,
    "scale": 5.343506134516637E8
   },
   {
    "level": 2,
    "resolution": 231922.54546459927,
    "scale": 2.6717530672583184E8
   },
   {
    "level": 3,
    "resolution": 115961.27273229964,
    "scale": 1.3358765336291592E8
   },
   {
    "level": 4,
    "resolution": 57980.63636614982,
    "scale": 6.679382668145796E7
   },
   {
    "level": 5,
    "resolution": 28990.31818307491,
    "scale": 3.339691334072898E7
   },
   {
    "level": 6,
    "resolution": 14495.159091537455,
    "scale": 1.669845667036449E7
   },
   {
    "level": 7,
    "resolution": 7247.579545768727,
    "scale": 8349228.335182245
   },
   {
    "level": 8,
    "resolution": 3623.7897728843636,
    "scale": 4174614.1675911224
   },
   {
    "level": 9,
    "resolution": 1811.8948864421818,
    "scale": 2087307.0837955612
   },
   {
    "level": 10,
    "resolution": 905.9474432210909,
    "scale": 1043653.5418977806
   },
   {
    "level": 11,
    "resolution": 452.97372161054545,
    "scale": 521826.7709488903
   },
   {
    "level": 12,
    "resolution": 226.48686080527273,
    "scale": 260913.38547444515
   },
   {
    "level": 13,
    "resolution": 113.24343040263636,
    "scale": 130456.69273722258
   },
   {
    "level": 14,
    "resolution": 56.62171520131818,
    "scale": 65228.34636861129
   },
   {
    "level": 15,
    "resolution": 28.31085760065909,
    "scale": 32614.173184305644
   },
   {
    "level": 16,
    "resolution": 14.155428800329545,
    "scale": 16307.086592152822
   },
   {
    "level": 17,
    "resolution": 7.077714400164773,
    "scale": 8153.543296076411
   },
   {
    "level": 18,
    "resolution": 3.5388572000823864,
    "scale": 4076.7716480382055
   },
   {
    "level": 19,
    "resolution": 1.7694286000411932,
    "scale": 2038.3858240191028
   },
   {
    "level": 20,
    "resolution": 0.8847143000205966,
    "scale": 1019.1929120095514
   },
   {
    "level": 21,
    "resolution": 0.4423571500102983,
    "scale": 509.5964560047757
   },
   {
    "level": 22,
    "resolution": 0.22117857500514915,
    "scale": 254.79822800238784
   },
   {
    "level": 23,
    "resolution": 0.11058928750257457,
    "scale": 127.39911400119392
   }
  ]
 },
 "storageInfo": {
  "storageFormat": "esriMapCacheStorageModeCompactV2",
  "packetSize": 128
 },
 "initialExtent": {
  "xmin": 1255379.6026998495,
  "ymin": 320911.0499999879,
  "xmax": 1304508.8979666547,
  "ymax": 352468.95000000304,
  "spatialReference": {
   "wkid": 2926,
   "latestWkid": 2926,
   "xyTolerance": 0.003280833333333333,
   "zTolerance": 0.001,
   "mTolerance": 0.001,
   "falseX": -117104300,
   "falseY": -99539600,
   "xyUnits": 3048.0060960121928,
   "falseZ": -100000,
   "zUnits": 10000,
   "falseM": -100000,
   "mUnits": 10000
  }
 },
 "fullExtent": {
  "xmin": 1272568.2503332489,
  "ymin": 322345.4999999886,
  "xmax": 1287320.2503332554,
  "ymax": 351034.5000000023,
  "spatialReference": {
   "wkid": 2926,
   "latestWkid": 2926,
   "xyTolerance": 0.003280833333333333,
   "zTolerance": 0.001,
   "mTolerance": 0.001,
   "falseX": -117104300,
   "falseY": -99539600,
   "xyUnits": 3048.0060960121928,
   "falseZ": -100000,
   "zUnits": 10000,
   "falseM": -100000,
   "mUnits": 10000
  }
 },
 "datesInUnknownTimezone": false,
 "units": "esriFeet",
 "supportedImageFormatTypes": "PNG32,PNG24,PNG,JPG,DIB,TIFF,EMF,PS,PDF,GIF,SVG,SVGZ,BMP",
 "documentInfo": {
  "Title": "Map",
  "Author": "",
  "Comments": "",
  "Subject": "",
  "Category": "",
  "Version": "3.6.0",
  "AntialiasingMode": "None",
  "TextAntialiasingMode": "Force",
  "Keywords": ""
 },
 "supportsQueryDomains": true,
 "supportedQueryFormats": "JSON, geoJSON, PBF",
 "referenceScale": 0.0,
 "supportsDatumTransformation": true,
 "archivingInfo": {
  "supportsHistoricMoment": false
 },
 "supportsClipping": true,
 "supportsSpatialFilter": true,
 "supportsTimeRelation": true,
 "supportsQueryDataElements": true,
 "mapUnits": {
  "uwkid": 9003
 },
 "maxSelectionCount": 2000,
 "maxRecordCount": 1000,
 "maxImageHeight": 4096,
 "maxImageWidth": 4096,
 "capabilities": "TilesOnly,Tilemap",
 "minScale": 220230,
 "maxScale": 0,
 "exportTilesAllowed": true,
 "maxExportTilesCount": 100000,
 "minLOD": 14,
 "maxLOD": 23,
 "supportedExtensions": "",
 "serviceItemId": "0d850071b1d046ef963d1c493e5529e4"
}
