View In:
ArcGIS JavaScript
ArcGIS Online Map Viewer
ArcGIS Earth
Service Description: Imagery_1995
Name: Imagery_1995
Description:
Single Fused Map Cache: false
Extent:
XMin: 1268619.341125729
YMin: 317455.0829757346
XMax: 1290759.2410170285
YMax: 355085.3698844715
Spatial Reference: 102748
(2285)
LatestVCSWkid(0)
Initial Extent:
XMin: 1268619.341125729
YMin: 317455.0829757346
XMax: 1290759.2410170285
YMax: 355085.3698844715
Spatial Reference: 102748
(2285)
LatestVCSWkid(0)
Full Extent:
XMin: 1268619.341125729
YMin: 317455.0829757346
XMax: 1290759.2410170285
YMax: 355085.3698844715
Spatial Reference: 102748
(2285)
LatestVCSWkid(0)
Pixel Size X: 0.9795982430555917
Pixel Size Y: 0.9795982430555765
Band Count: 3
Pixel Type: U8
RasterFunction Infos: {"rasterFunctionInfos": [{
"name": "None",
"description": "",
"help": ""
}]}
Mensuration Capabilities: Basic
Inspection Capabilities:
Has Histograms: true
Has Colormap: false
Has Multi Dimensions : false
Rendering Rule:
Min Scale: 0
Max Scale: 0
Copyright Text:
Service Data Type: esriImageServiceDataTypeRGB
Min Values: 0, 0, 0
Max Values: 255, 255, 255
Mean Values: 71.182579754585, 71.182579754585, 71.182579754585
Standard Deviation Values: 78.779623444198, 78.779623444198, 78.779623444198
Object ID Field:
Fields:
None
Default Mosaic Method: Center
Allowed Mosaic Methods:
SortField:
SortValue: null
Mosaic Operator: First
Default Compression Quality: 75
Default Resampling Method: Bilinear
Max Record Count: null
Max Image Height: 4100
Max Image Width: 15000
Max Download Image Count: null
Max Mosaic Image Count: null
Allow Raster Function: true
Allow Copy: true
Allow Analysis: true
Allow Compute TiePoints: false
Supports Statistics: false
Supports Advanced Queries: false
Use StandardizedQueries: true
Raster Type Infos:
Name: Raster Dataset
Description: Supports all ArcGIS Raster Datasets
Help:
Has Raster Attribute Table: false
Edit Fields Info: null
Ownership Based AccessControl For Rasters: null
Child Resources:
Info
Histograms
Statistics
Key Properties
Legend
Raster Function Infos
Supported Operations:
Export Image
Identify
Measure
Compute Histograms
Compute Statistics Histograms
Get Samples
Compute Class Statistics
Query Boundary
Compute Pixel Location
Compute Angles
Validate
Project