View In:
ArcGIS JavaScript
ArcGIS Online Map Viewer
ArcGIS Earth
ArcGIS Pro
Service Description:
Map Name: Map
Legend
All Layers and Tables
Layers:
Description:
Service Item Id: 0d850071b1d046ef963d1c493e5529e4
Copyright Text:
Spatial Reference:
2926
(2926)
LatestVCSWkid(0)
Single Fused Map Cache: true
Tile Info:
- Height: 256
- Width: 256
- DPI: 96
-
Levels of Detail: 24
-
Level ID: 0
[ Start Tile, End Tile ]
- Resolution: 927690.1818583971
- Scale: 1.0687012269033273E9
-
Level ID: 1
[ Start Tile, End Tile ]
- Resolution: 463845.09092919854
- Scale: 5.343506134516637E8
-
Level ID: 2
[ Start Tile, End Tile ]
- Resolution: 231922.54546459927
- Scale: 2.6717530672583184E8
-
Level ID: 3
[ Start Tile, End Tile ]
- Resolution: 115961.27273229964
- Scale: 1.3358765336291592E8
-
Level ID: 4
[ Start Tile, End Tile ]
- Resolution: 57980.63636614982
- Scale: 6.679382668145796E7
-
Level ID: 5
[ Start Tile, End Tile ]
- Resolution: 28990.31818307491
- Scale: 3.339691334072898E7
-
Level ID: 6
[ Start Tile, End Tile ]
- Resolution: 14495.159091537455
- Scale: 1.669845667036449E7
-
Level ID: 7
[ Start Tile, End Tile ]
- Resolution: 7247.579545768727
- Scale: 8349228.335182245
-
Level ID: 8
[ Start Tile, End Tile ]
- Resolution: 3623.7897728843636
- Scale: 4174614.1675911224
-
Level ID: 9
[ Start Tile, End Tile ]
- Resolution: 1811.8948864421818
- Scale: 2087307.0837955612
-
Level ID: 10
[ Start Tile, End Tile ]
- Resolution: 905.9474432210909
- Scale: 1043653.5418977806
-
Level ID: 11
[ Start Tile, End Tile ]
- Resolution: 452.97372161054545
- Scale: 521826.7709488903
-
Level ID: 12
[ Start Tile, End Tile ]
- Resolution: 226.48686080527273
- Scale: 260913.38547444515
-
Level ID: 13
[ Start Tile, End Tile ]
- Resolution: 113.24343040263636
- Scale: 130456.69273722258
-
Level ID: 14
[ Start Tile, End Tile ]
- Resolution: 56.62171520131818
- Scale: 65228.34636861129
-
Level ID: 15
[ Start Tile, End Tile ]
- Resolution: 28.31085760065909
- Scale: 32614.173184305644
-
Level ID: 16
[ Start Tile, End Tile ]
- Resolution: 14.155428800329545
- Scale: 16307.086592152822
-
Level ID: 17
[ Start Tile, End Tile ]
- Resolution: 7.077714400164773
- Scale: 8153.543296076411
-
Level ID: 18
[ Start Tile, End Tile ]
- Resolution: 3.5388572000823864
- Scale: 4076.7716480382055
-
Level ID: 19
[ Start Tile, End Tile ]
- Resolution: 1.7694286000411932
- Scale: 2038.3858240191028
-
Level ID: 20
[ Start Tile, End Tile ]
- Resolution: 0.8847143000205966
- Scale: 1019.1929120095514
-
Level ID: 21
[ Start Tile, End Tile ]
- Resolution: 0.4423571500102983
- Scale: 509.5964560047757
-
Level ID: 22
[ Start Tile, End Tile ]
- Resolution: 0.22117857500514915
- Scale: 254.79822800238784
-
Level ID: 23
[ Start Tile, End Tile ]
- Resolution: 0.11058928750257457
- Scale: 127.39911400119392
- Format: Mixed
- Compression Quality: 75.0
- Origin: X: -1.1710392661120817E8
Y: 1.1983097835022256E8
- Spatial Reference: 2926
(2926)
LatestVCSWkid(0)
Storage Info:
- Storage Format: esriMapCacheStorageModeCompactV2
- Packet Size: 128
Initial Extent:
XMin: 1255379.6026998495
YMin: 320911.0499999879
XMax: 1304508.8979666547
YMax: 352468.95000000304
Spatial Reference: 2926
(2926)
LatestVCSWkid(0)
Full Extent:
XMin: 1272568.2503332489
YMin: 322345.4999999886
XMax: 1287320.2503332554
YMax: 351034.5000000023
Spatial Reference: 2926
(2926)
LatestVCSWkid(0)
Units: esriFeet
Supported Image Format Types: PNG32,PNG24,PNG,JPG,DIB,TIFF,EMF,PS,PDF,GIF,SVG,SVGZ,BMP
Document Info:
Title: Map
Author:
Comments:
Subject:
Category:
Keywords:
AntialiasingMode: None
TextAntialiasingMode: Force
Supports Dynamic Layers: false
MaxRecordCount: 1000
MaxSelectionCount: 2000
MaxImageHeight: 4096
MaxImageWidth: 4096
Supported Query Formats: JSON, geoJSON, PBF
Supports Query Data Elements: true
Min Scale: 220230
Max Scale: 0
Min LOD: 14
Max LOD: 23
Supports Datum Transformation: true
Child Resources:
Info
Supported Operations:
QueryLegends
EstimateExportTilesSize
ExportTiles
Return Updates